Package: hoodscanR Version: 1.7.0 Command: /Library/Frameworks/R.framework/Resources/bin/R CMD check --install=check:hoodscanR.install-out.txt --library=/Library/Frameworks/R.framework/Resources/library --no-vignettes --timings hoodscanR_1.7.0.tar.gz StartedAt: 2025-05-08 21:14:57 -0400 (Thu, 08 May 2025) EndedAt: 2025-05-08 21:18:47 -0400 (Thu, 08 May 2025) EllapsedTime: 230.0 seconds RetCode: 0 Status: OK CheckDir: hoodscanR.Rcheck Warnings: 0