Package: hoodscanR Version: 1.5.1 Command: /home/biocbuild/R/R/bin/R CMD check --install=check:hoodscanR.install-out.txt --library=/home/biocbuild/R/R/site-library --no-vignettes --timings hoodscanR_1.5.1.tar.gz StartedAt: 2025-01-28 11:32:17 -0000 (Tue, 28 Jan 2025) EndedAt: 2025-01-28 11:36:43 -0000 (Tue, 28 Jan 2025) EllapsedTime: 265.3 seconds RetCode: 0 Status: OK CheckDir: hoodscanR.Rcheck Warnings: 0