Package: hoodscanR Version: 1.7.0 Command: /Library/Frameworks/R.framework/Resources/bin/R CMD INSTALL hoodscanR StartedAt: 2025-05-09 15:12:49 -0400 (Fri, 09 May 2025) EndedAt: 2025-05-09 15:13:02 -0400 (Fri, 09 May 2025) EllapsedTime: 12.8 seconds RetCode: 0 Status: OK