Package: hoodscanR Version: 1.7.0 Command: /Library/Frameworks/R.framework/Resources/bin/R CMD build --keep-empty-dirs --no-resave-data hoodscanR StartedAt: 2025-05-09 16:43:39 -0400 (Fri, 09 May 2025) EndedAt: 2025-05-09 16:44:03 -0400 (Fri, 09 May 2025) EllapsedTime: 24.3 seconds RetCode: 0 Status: OK PackageFile: hoodscanR_1.7.0.tar.gz PackageFileSize: 3.044 MiB