Package: hipathia Version: 3.9.0 Maintainer: Marta R. Hidalgo MaintainerEmail: marta.hidalgo at outlook.es git_url: https://git.bioconductor.org/packages/hipathia git_branch: devel git_last_commit: 29effee git_last_commit_date: 2025-04-15 11:32:56 -0400 (Tue, 15 Apr 2025)