Package: hiAnnotator Version: 1.43.1 Command: /home/biocbuild/bbs-3.22-bioc/R/bin/R CMD INSTALL hiAnnotator StartedAt: 2025-10-06 15:28:20 -0400 (Mon, 06 Oct 2025) EndedAt: 2025-10-06 15:28:54 -0400 (Mon, 06 Oct 2025) EllapsedTime: 33.8 seconds RetCode: 0 Status: OK