Package: hiAnnotator Version: 1.43.1 Command: /home/biocbuild/bbs-3.22-bioc/R/bin/R CMD build --keep-empty-dirs --no-resave-data --md5 hiAnnotator StartedAt: 2025-10-06 18:03:31 -0400 (Mon, 06 Oct 2025) EndedAt: 2025-10-06 18:04:21 -0400 (Mon, 06 Oct 2025) EllapsedTime: 50.0 seconds RetCode: 1 Status: ERROR PackageFile: None PackageFileSize: NA