Package: hiAnnotator Version: 1.43.0 Command: /Library/Frameworks/R.framework/Resources/bin/R CMD build --keep-empty-dirs --no-resave-data hiAnnotator StartedAt: 2025-05-16 16:31:46 -0400 (Fri, 16 May 2025) EndedAt: 2025-05-16 16:32:10 -0400 (Fri, 16 May 2025) EllapsedTime: 24.3 seconds RetCode: 0 Status: OK PackageFile: hiAnnotator_1.43.0.tar.gz PackageFileSize: 733.7 KiB