Package: hermes Version: 1.13.1 Command: /home/biocbuild/R/R/bin/R CMD build --keep-empty-dirs --no-resave-data hermes StartedAt: 2025-10-07 00:17:47 -0000 (Tue, 07 Oct 2025) EndedAt: 2025-10-07 00:20:05 -0000 (Tue, 07 Oct 2025) EllapsedTime: 138.1 seconds RetCode: 0 Status: OK PackageFile: hermes_1.13.1.tar.gz PackageFileSize: 3.472 MiB