Package: hermes Version: 1.11.0 Command: E:\biocbuild\bbs-3.21-bioc\R\bin\R.exe CMD check --no-multiarch --install=check:hermes.install-out.txt --library=E:\biocbuild\bbs-3.21-bioc\R\library --no-vignettes --timings hermes_1.11.0.tar.gz StartedAt: 2025-02-17 01:44:07 -0500 (Mon, 17 Feb 2025) EndedAt: 2025-02-17 01:53:27 -0500 (Mon, 17 Feb 2025) EllapsedTime: 559.9 seconds RetCode: 0 Status: OK CheckDir: hermes.Rcheck Warnings: 0