Package: hermes Version: 1.11.0 Command: chmod a+r hermes -R && E:\biocbuild\bbs-3.21-bioc\R\bin\R.exe CMD build --keep-empty-dirs --no-resave-data hermes StartedAt: 2025-02-16 19:07:08 -0500 (Sun, 16 Feb 2025) EndedAt: 2025-02-16 19:10:37 -0500 (Sun, 16 Feb 2025) EllapsedTime: 209.0 seconds RetCode: 0 Status: OK PackageFile: hermes_1.11.0.tar.gz PackageFileSize: 3.372 MiB