Package: hermes Version: 1.11.0 Command: /home/biocbuild/bbs-3.21-bioc/R/bin/R CMD build --keep-empty-dirs --no-resave-data hermes StartedAt: 2025-02-16 17:34:34 -0500 (Sun, 16 Feb 2025) EndedAt: 2025-02-16 17:36:10 -0500 (Sun, 16 Feb 2025) EllapsedTime: 96.1 seconds RetCode: 0 Status: OK PackageFile: hermes_1.11.0.tar.gz PackageFileSize: 4.28 MiB