Package: hermes Version: 1.11.0 Command: /Library/Frameworks/R.framework/Resources/bin/R CMD check --install=check:hermes.install-out.txt --library=/Library/Frameworks/R.framework/Resources/library --no-vignettes --timings hermes_1.11.0.tar.gz StartedAt: 2025-02-19 19:41:55 -0500 (Wed, 19 Feb 2025) EndedAt: 2025-02-19 19:44:41 -0500 (Wed, 19 Feb 2025) EllapsedTime: 166.0 seconds RetCode: 0 Status: OK CheckDir: hermes.Rcheck Warnings: 0