Package: hermes Version: 1.11.0 Command: /Library/Frameworks/R.framework/Resources/bin/R CMD build --keep-empty-dirs --no-resave-data hermes StartedAt: 2025-02-19 16:37:01 -0500 (Wed, 19 Feb 2025) EndedAt: 2025-02-19 16:37:39 -0500 (Wed, 19 Feb 2025) EllapsedTime: 38.4 seconds RetCode: 0 Status: OK PackageFile: hermes_1.11.0.tar.gz PackageFileSize: 4.001 MiB