Package: hermes Version: 1.11.0 Command: rm -rf hermes.buildbin-libdir && mkdir hermes.buildbin-libdir && /Users/biocbuild/BBS/utils/build-universal.sh hermes_1.11.0.tar.gz /Library/Frameworks/R.framework/Resources/bin/R hermes.buildbin-libdir StartedAt: 2025-02-20 22:21:47 -0500 (Thu, 20 Feb 2025) EndedAt: 2025-02-20 22:22:04 -0500 (Thu, 20 Feb 2025) EllapsedTime: 17.4 seconds RetCode: 0 Status: OK PackageFile: hermes_1.11.0.tgz PackageFileSize: 4.077 MiB