Package: heatmaps Version: 1.33.1 Command: /home/biocbuild/R/R/bin/R CMD build --keep-empty-dirs --no-resave-data heatmaps StartedAt: 2025-09-30 00:34:23 -0000 (Tue, 30 Sep 2025) EndedAt: 2025-09-30 00:36:01 -0000 (Tue, 30 Sep 2025) EllapsedTime: 98.1 seconds RetCode: 0 Status: OK PackageFile: heatmaps_1.33.1.tar.gz PackageFileSize: 7.348 MiB