Package: heatmaps Version: 1.31.0 Command: /home/biocbuild/bbs-3.21-bioc/R/bin/R CMD build --keep-empty-dirs --no-resave-data heatmaps StartedAt: 2025-02-03 17:44:35 -0500 (Mon, 03 Feb 2025) EndedAt: 2025-02-03 17:46:02 -0500 (Mon, 03 Feb 2025) EllapsedTime: 87.1 seconds RetCode: 0 Status: OK PackageFile: heatmaps_1.31.0.tar.gz PackageFileSize: 8.315 MiB