Package: heatmaps Version: 1.31.0 Command: /Library/Frameworks/R.framework/Resources/bin/R CMD build --keep-empty-dirs --no-resave-data heatmaps StartedAt: 2025-02-03 17:11:52 -0500 (Mon, 03 Feb 2025) EndedAt: 2025-02-03 17:12:26 -0500 (Mon, 03 Feb 2025) EllapsedTime: 34.4 seconds RetCode: 0 Status: OK PackageFile: heatmaps_1.31.0.tar.gz PackageFileSize: 8.737 MiB