Package: hdxmsqc Version: 1.5.0 Command: /home/biocbuild/R/R/bin/R CMD build --keep-empty-dirs --no-resave-data hdxmsqc StartedAt: 2025-10-17 01:51:39 -0000 (Fri, 17 Oct 2025) EndedAt: 2025-10-17 01:57:35 -0000 (Fri, 17 Oct 2025) EllapsedTime: 355.3 seconds RetCode: 0 Status: OK PackageFile: hdxmsqc_1.5.0.tar.gz PackageFileSize: 2.855 MiB