Package: hdxmsqc Version: 1.3.0 Command: /Library/Frameworks/R.framework/Resources/bin/R CMD build --keep-empty-dirs --no-resave-data hdxmsqc StartedAt: 2025-02-16 16:54:04 -0500 (Sun, 16 Feb 2025) EndedAt: 2025-02-16 16:58:24 -0500 (Sun, 16 Feb 2025) EllapsedTime: 259.5 seconds RetCode: 0 Status: OK PackageFile: hdxmsqc_1.3.0.tar.gz PackageFileSize: 4.567 MiB