Package: hca Version: 1.17.0 Command: /home/biocbuild/bbs-3.22-bioc/R/bin/R CMD INSTALL hca StartedAt: 2025-10-24 15:19:57 -0400 (Fri, 24 Oct 2025) EndedAt: 2025-10-24 15:20:09 -0400 (Fri, 24 Oct 2025) EllapsedTime: 11.5 seconds RetCode: 0 Status: OK