Package: hapFabia Version: 1.53.0 Command: /home/biocbuild/bbs-3.23-bioc/R/bin/R CMD build --keep-empty-dirs --no-resave-data hapFabia StartedAt: 2025-11-17 18:08:11 -0500 (Mon, 17 Nov 2025) EndedAt: 2025-11-17 18:08:32 -0500 (Mon, 17 Nov 2025) EllapsedTime: 21.0 seconds RetCode: 0 Status: OK PackageFile: hapFabia_1.53.0.tar.gz PackageFileSize: 1.623 MiB