Package: hapFabia Version: 1.53.0 Command: /Library/Frameworks/R.framework/Resources/bin/R CMD INSTALL hapFabia StartedAt: 2025-11-26 15:19:58 -0500 (Wed, 26 Nov 2025) EndedAt: 2025-11-26 15:20:15 -0500 (Wed, 26 Nov 2025) EllapsedTime: 17.1 seconds RetCode: 0 Status: OK