Package: hapFabia Version: 1.53.0 Command: /Library/Frameworks/R.framework/Resources/bin/R CMD build --keep-empty-dirs --no-resave-data hapFabia StartedAt: 2025-11-26 17:16:34 -0500 (Wed, 26 Nov 2025) EndedAt: 2025-11-26 17:17:11 -0500 (Wed, 26 Nov 2025) EllapsedTime: 37.6 seconds RetCode: 0 Status: OK PackageFile: hapFabia_1.53.0.tar.gz PackageFileSize: 1.62 MiB