Package: hapFabia Version: 1.53.0 Command: rm -rf hapFabia.buildbin-libdir && mkdir hapFabia.buildbin-libdir && /Users/biocbuild/BBS/utils/build-universal.sh hapFabia_1.53.0.tar.gz /Library/Frameworks/R.framework/Resources/bin/R hapFabia.buildbin-libdir StartedAt: 2025-11-27 01:36:16 -0500 (Thu, 27 Nov 2025) EndedAt: 2025-11-27 01:36:39 -0500 (Thu, 27 Nov 2025) EllapsedTime: 23.0 seconds RetCode: 0 Status: OK PackageFile: hapFabia_1.53.0.tgz PackageFileSize: 1.782 MiB