Package: hapFabia Version: 1.53.0 Command: /Library/Frameworks/R.framework/Resources/bin/R CMD build --keep-empty-dirs --no-resave-data hapFabia StartedAt: 2025-11-13 16:39:31 -0500 (Thu, 13 Nov 2025) EndedAt: 2025-11-13 16:39:45 -0500 (Thu, 13 Nov 2025) EllapsedTime: 14.1 seconds RetCode: 0 Status: OK PackageFile: hapFabia_1.53.0.tar.gz PackageFileSize: 1.623 MiB