Package: h5mread Version: 0.99.4 Command: E:\biocbuild\bbs-3.21-bioc\R\bin\R.exe CMD check --no-multiarch --install=check:h5mread.install-out.txt --library=E:\biocbuild\bbs-3.21-bioc\R\library --no-vignettes --timings h5mread_0.99.4.tar.gz StartedAt: 2025-02-05 02:17:55 -0500 (Wed, 05 Feb 2025) EndedAt: 2025-02-05 02:24:29 -0500 (Wed, 05 Feb 2025) EllapsedTime: 393.6 seconds RetCode: 0 Status: WARNINGS CheckDir: h5mread.Rcheck Warnings: 1