############################################################################## ############################################################################## ### ### Running command: ### ### chmod a+r h5mread -R && E:\biocbuild\bbs-3.21-bioc\R\bin\R.exe CMD build --keep-empty-dirs --no-resave-data h5mread ### ############################################################################## ############################################################################## * checking for file 'h5mread/DESCRIPTION' ... OK * preparing 'h5mread': * checking DESCRIPTION meta-information ... OK * cleaning src * installing the package to build vignettes * creating vignettes ... OK * cleaning src * checking for LF line-endings in source and make files and shell scripts * checking for empty or unneeded directories * building 'h5mread_0.99.4.tar.gz'