Package: h5mread Version: 0.99.4 Command: /home/biocbuild/R/R/bin/R CMD build --keep-empty-dirs --no-resave-data h5mread StartedAt: 2025-01-28 23:29:44 -0000 (Tue, 28 Jan 2025) EndedAt: 2025-01-28 23:33:12 -0000 (Tue, 28 Jan 2025) EllapsedTime: 208.1 seconds RetCode: 0 Status: OK PackageFile: h5mread_0.99.4.tar.gz PackageFileSize: 2.391 MiB