Package: gypsum Version: 1.5.0 Command: /home/biocbuild/bbs-3.22-bioc/R/bin/R CMD INSTALL gypsum StartedAt: 2025-10-08 15:19:39 -0400 (Wed, 08 Oct 2025) EndedAt: 2025-10-08 15:19:51 -0400 (Wed, 08 Oct 2025) EllapsedTime: 11.3 seconds RetCode: 0 Status: OK