Package: gwasurvivr Version: 1.28.0 Command: /home/biocbuild/bbs-3.22-bioc/R/bin/R CMD INSTALL gwasurvivr StartedAt: 2025-10-29 22:01:01 -0400 (Wed, 29 Oct 2025) EndedAt: 2025-10-29 22:01:45 -0400 (Wed, 29 Oct 2025) EllapsedTime: 43.6 seconds RetCode: 0 Status: OK