Package: gwasurvivr Version: 1.25.0 Command: /home/biocbuild/bbs-3.21-bioc/R/bin/R CMD build --keep-empty-dirs --no-resave-data gwasurvivr StartedAt: 2025-02-09 17:34:22 -0500 (Sun, 09 Feb 2025) EndedAt: 2025-02-09 17:37:04 -0500 (Sun, 09 Feb 2025) EllapsedTime: 162.4 seconds RetCode: 0 Status: OK PackageFile: gwasurvivr_1.25.0.tar.gz PackageFileSize: 343.1 KiB