Package: gwasurvivr Version: 1.25.0 Command: /Library/Frameworks/R.framework/Resources/bin/R CMD INSTALL gwasurvivr StartedAt: 2025-02-04 15:36:00 -0500 (Tue, 04 Feb 2025) EndedAt: 2025-02-04 15:36:58 -0500 (Tue, 04 Feb 2025) EllapsedTime: 57.4 seconds RetCode: 0 Status: OK