Package: gsean Version: 1.27.0 Command: E:\biocbuild\bbs-3.21-bioc\R\bin\R.exe CMD INSTALL gsean StartedAt: 2025-02-12 15:59:47 -0500 (Wed, 12 Feb 2025) EndedAt: 2025-02-12 16:00:25 -0500 (Wed, 12 Feb 2025) EllapsedTime: 37.8 seconds RetCode: 0 Status: OK