Package: gsean Version: 1.27.0 Command: chmod a+r gsean -R && E:\biocbuild\bbs-3.21-bioc\R\bin\R.exe CMD build --keep-empty-dirs --no-resave-data gsean StartedAt: 2025-02-12 19:12:13 -0500 (Wed, 12 Feb 2025) EndedAt: 2025-02-12 19:12:59 -0500 (Wed, 12 Feb 2025) EllapsedTime: 45.5 seconds RetCode: 1 Status: ERROR PackageFile: None PackageFileSize: NA