Package: gsean Version: 1.27.0 Command: /Library/Frameworks/R.framework/Resources/bin/R CMD INSTALL gsean StartedAt: 2025-02-14 15:22:10 -0500 (Fri, 14 Feb 2025) EndedAt: 2025-02-14 15:22:19 -0500 (Fri, 14 Feb 2025) EllapsedTime: 9.3 seconds RetCode: 0 Status: OK