Package: gscreend Version: 1.21.0 Command: /Library/Frameworks/R.framework/Resources/bin/R CMD check --install=check:gscreend.install-out.txt --library=/Library/Frameworks/R.framework/Resources/library --no-vignettes --timings gscreend_1.21.0.tar.gz StartedAt: 2025-01-31 19:34:09 -0500 (Fri, 31 Jan 2025) EndedAt: 2025-01-31 19:35:53 -0500 (Fri, 31 Jan 2025) EllapsedTime: 104.2 seconds RetCode: 0 Status: OK CheckDir: gscreend.Rcheck Warnings: 0