Package: gscreend Version: 1.23.0 Command: /Library/Frameworks/R.framework/Resources/bin/R CMD build --keep-empty-dirs --no-resave-data gscreend StartedAt: 2025-04-30 16:31:40 -0400 (Wed, 30 Apr 2025) EndedAt: 2025-04-30 16:32:31 -0400 (Wed, 30 Apr 2025) EllapsedTime: 50.6 seconds RetCode: 0 Status: OK PackageFile: gscreend_1.23.0.tar.gz PackageFileSize: 3.113 MiB