Package: gscreend Version: 1.23.0 Command: rm -rf gscreend.buildbin-libdir && mkdir gscreend.buildbin-libdir && /Users/biocbuild/BBS/utils/build-universal.sh gscreend_1.23.0.tar.gz /Library/Frameworks/R.framework/Resources/bin/R gscreend.buildbin-libdir StartedAt: 2025-04-30 22:37:33 -0400 (Wed, 30 Apr 2025) EndedAt: 2025-04-30 22:37:44 -0400 (Wed, 30 Apr 2025) EllapsedTime: 10.2 seconds RetCode: 0 Status: OK PackageFile: gscreend_1.23.0.tgz PackageFileSize: 3.171 MiB