Package: groHMM Version: 1.41.0 Command: E:\biocbuild\bbs-3.21-bioc\R\bin\R.exe CMD check --no-multiarch --install=check:groHMM.install-out.txt --library=E:\biocbuild\bbs-3.21-bioc\R\library --no-vignettes --timings groHMM_1.41.0.tar.gz StartedAt: 2025-01-22 01:49:20 -0500 (Wed, 22 Jan 2025) EndedAt: 2025-01-22 01:53:31 -0500 (Wed, 22 Jan 2025) EllapsedTime: 250.4 seconds RetCode: 0 Status: WARNINGS CheckDir: groHMM.Rcheck Warnings: 1