Package: groHMM Version: 1.41.0 Command: rm -rf groHMM.buildbin-libdir && mkdir groHMM.buildbin-libdir && E:\biocbuild\bbs-3.21-bioc\R\bin\R.exe CMD INSTALL --build --library=groHMM.buildbin-libdir groHMM_1.41.0.tar.gz StartedAt: 2025-01-22 07:45:09 -0500 (Wed, 22 Jan 2025) EndedAt: 2025-01-22 07:45:54 -0500 (Wed, 22 Jan 2025) EllapsedTime: 45.3 seconds RetCode: 0 Status: OK PackageFile: groHMM_1.41.0.zip PackageFileSize: 4.257 MiB