Package: groHMM Version: 1.43.1 Command: /home/biocbuild/bbs-3.22-bioc/R/bin/R CMD INSTALL groHMM StartedAt: 2025-09-28 15:40:54 -0400 (Sun, 28 Sep 2025) EndedAt: 2025-09-28 15:41:25 -0400 (Sun, 28 Sep 2025) EllapsedTime: 31.2 seconds RetCode: 0 Status: OK