Package: groHMM Version: 1.43.1 Command: /home/biocbuild/bbs-3.22-bioc/R/bin/R CMD build --keep-empty-dirs --no-resave-data --md5 groHMM StartedAt: 2025-09-28 18:10:45 -0400 (Sun, 28 Sep 2025) EndedAt: 2025-09-28 18:12:50 -0400 (Sun, 28 Sep 2025) EllapsedTime: 125.2 seconds RetCode: 0 Status: OK PackageFile: groHMM_1.43.1.tar.gz PackageFileSize: 4.163 MiB