Package: groHMM Version: 1.41.0 Command: /home/biocbuild/bbs-3.21-bioc/R/bin/R CMD build --keep-empty-dirs --no-resave-data groHMM StartedAt: 2025-02-05 17:31:56 -0500 (Wed, 05 Feb 2025) EndedAt: 2025-02-05 17:31:58 -0500 (Wed, 05 Feb 2025) EllapsedTime: 2.0 seconds RetCode: 1 Status: ERROR PackageFile: None PackageFileSize: NA