Package: graper Version: 1.23.0 Command: /home/biocbuild/R/R/bin/R CMD check --install=check:graper.install-out.txt --library=/home/biocbuild/R/R/site-library --no-vignettes --timings graper_1.23.0.tar.gz StartedAt: 2024-12-13 11:55:08 -0000 (Fri, 13 Dec 2024) EndedAt: 2024-12-13 11:56:14 -0000 (Fri, 13 Dec 2024) EllapsedTime: 65.1 seconds RetCode: 0 Status: OK CheckDir: graper.Rcheck Warnings: 0