Package: graper Version: 1.23.0 Command: /Library/Frameworks/R.framework/Resources/bin/R CMD check --install=check:graper.install-out.txt --library=/Library/Frameworks/R.framework/Resources/library --no-vignettes --timings graper_1.23.0.tar.gz StartedAt: 2024-12-16 19:35:16 -0500 (Mon, 16 Dec 2024) EndedAt: 2024-12-16 19:35:40 -0500 (Mon, 16 Dec 2024) EllapsedTime: 24.3 seconds RetCode: 0 Status: WARNINGS CheckDir: graper.Rcheck Warnings: 1