Package: granulator Version: 1.17.0 Command: /home/biocbuild/bbs-3.22-bioc/R/bin/R CMD INSTALL granulator StartedAt: 2025-09-30 15:10:47 -0400 (Tue, 30 Sep 2025) EndedAt: 2025-09-30 15:11:00 -0400 (Tue, 30 Sep 2025) EllapsedTime: 13.1 seconds RetCode: 0 Status: OK