Package: granulator Version: 1.17.0 Command: /home/biocbuild/bbs-3.22-bioc/R/bin/R CMD build --keep-empty-dirs --no-resave-data --md5 granulator StartedAt: 2025-09-30 17:55:49 -0400 (Tue, 30 Sep 2025) EndedAt: 2025-09-30 17:58:52 -0400 (Tue, 30 Sep 2025) EllapsedTime: 183.1 seconds RetCode: 0 Status: OK PackageFile: granulator_1.17.0.tar.gz PackageFileSize: 1.293 MiB