Package: gpuMagic Version: 1.25.1 Command: /home/biocbuild/R/R/bin/R CMD INSTALL gpuMagic StartedAt: 2025-10-20 20:23:37 -0000 (Mon, 20 Oct 2025) EndedAt: 2025-10-20 20:23:42 -0000 (Mon, 20 Oct 2025) EllapsedTime: 4.8 seconds RetCode: 1 Status: ERROR