Package: gpuMagic Version: 1.25.1 Command: /home/biocbuild/R/R/bin/R CMD build --keep-empty-dirs --no-resave-data gpuMagic StartedAt: 2025-10-21 00:16:49 -0000 (Tue, 21 Oct 2025) EndedAt: 2025-10-21 00:16:53 -0000 (Tue, 21 Oct 2025) EllapsedTime: 4.0 seconds RetCode: 1 Status: ERROR PackageFile: None PackageFileSize: NA